Package: PCAN Version: 1.32.0 Command: /home/biocbuild/bbs-3.19-bioc/R/bin/R CMD INSTALL PCAN StartedAt: 2024-10-16 16:01:09 -0400 (Wed, 16 Oct 2024) EndedAt: 2024-10-16 16:01:11 -0400 (Wed, 16 Oct 2024) EllapsedTime: 2.1 seconds RetCode: 0 Status: OK