Package: PCAtools Version: 2.16.0 Command: rm -rf PCAtools.buildbin-libdir && mkdir PCAtools.buildbin-libdir && /Users/biocbuild/BBS/utils/build-universal.sh PCAtools_2.16.0.tar.gz /Library/Frameworks/R.framework/Resources/bin/R PCAtools.buildbin-libdir StartedAt: 2024-10-18 19:54:47 -0400 (Fri, 18 Oct 2024) EndedAt: 2024-10-18 19:55:37 -0400 (Fri, 18 Oct 2024) EllapsedTime: 50.6 seconds RetCode: 0 Status: OK PackageFile: PCAtools_2.16.0.tgz PackageFileSize: 5.954 MiB