Package: PCAtools Version: 2.16.0 Command: /home/biocbuild/R/R-beta-2024-04-15_r86425/bin/R CMD build --keep-empty-dirs --no-resave-data PCAtools StartedAt: 2024-05-09 02:25:56 -0000 (Thu, 09 May 2024) EndedAt: 2024-05-09 02:31:09 -0000 (Thu, 09 May 2024) EllapsedTime: 312.5 seconds RetCode: 0 Status: OK PackageFile: PCAtools_2.16.0.tar.gz PackageFileSize: 7.517 MiB