Package: PCAtools Version: 2.16.0 Command: /home/biocbuild/bbs-3.19-bioc/R/bin/R CMD build --keep-empty-dirs --no-resave-data PCAtools StartedAt: 2024-10-16 20:05:14 -0400 (Wed, 16 Oct 2024) EndedAt: 2024-10-16 20:09:02 -0400 (Wed, 16 Oct 2024) EllapsedTime: 227.6 seconds RetCode: 0 Status: OK PackageFile: PCAtools_2.16.0.tar.gz PackageFileSize: 9.964 MiB