Package: PCAtools Version: 2.16.0 Command: /home/biocbuild/bbs-3.19-bioc/R/bin/R CMD INSTALL PCAtools StartedAt: 2024-10-16 16:37:33 -0400 (Wed, 16 Oct 2024) EndedAt: 2024-10-16 16:38:07 -0400 (Wed, 16 Oct 2024) EllapsedTime: 34.0 seconds RetCode: 0 Status: OK