Package: PCAtools Version: 2.16.0 Command: rm -rf PCAtools.buildbin-libdir && mkdir PCAtools.buildbin-libdir && F:\biocbuild\bbs-3.19-bioc\R\bin\R.exe CMD INSTALL --build --library=PCAtools.buildbin-libdir PCAtools_2.16.0.tar.gz StartedAt: 2024-06-27 08:39:31 -0400 (Thu, 27 Jun 2024) EndedAt: 2024-06-27 08:40:38 -0400 (Thu, 27 Jun 2024) EllapsedTime: 66.2 seconds RetCode: 0 Status: OK PackageFile: PCAtools_2.16.0.zip PackageFileSize: 2.588 MiB