Package: PCAtools Version: 2.16.0 Command: chmod a+r PCAtools -R && F:\biocbuild\bbs-3.19-bioc\R\bin\R.exe CMD build --keep-empty-dirs --no-resave-data PCAtools StartedAt: 2024-06-26 20:54:31 -0400 (Wed, 26 Jun 2024) EndedAt: 2024-06-26 20:58:39 -0400 (Wed, 26 Jun 2024) EllapsedTime: 248.4 seconds RetCode: 0 Status: OK PackageFile: PCAtools_2.16.0.tar.gz PackageFileSize: 7.479 MiB