Package: PCAtools Version: 2.16.0 Command: rm -rf PCAtools.buildbin-libdir && mkdir PCAtools.buildbin-libdir && E:\biocbuild\bbs-3.19-bioc\R\bin\R.exe CMD INSTALL --build --library=PCAtools.buildbin-libdir PCAtools_2.16.0.tar.gz StartedAt: 2024-10-17 08:19:54 -0400 (Thu, 17 Oct 2024) EndedAt: 2024-10-17 08:20:55 -0400 (Thu, 17 Oct 2024) EllapsedTime: 60.7 seconds RetCode: 0 Status: OK PackageFile: PCAtools_2.16.0.zip PackageFileSize: 2.618 MiB