Package: PECA Version: 1.40.0 Command: /Library/Frameworks/R.framework/Resources/bin/R CMD INSTALL PECA StartedAt: 2024-10-16 16:16:41 -0400 (Wed, 16 Oct 2024) EndedAt: 2024-10-16 16:17:26 -0400 (Wed, 16 Oct 2024) EllapsedTime: 45.8 seconds RetCode: 0 Status: OK