Package: PECA Version: 1.40.0 Command: rm -rf PECA.buildbin-libdir && mkdir PECA.buildbin-libdir && F:\biocbuild\bbs-3.19-bioc\R\bin\R.exe CMD INSTALL --build --library=PECA.buildbin-libdir PECA_1.40.0.tar.gz StartedAt: 2024-06-27 08:39:43 -0400 (Thu, 27 Jun 2024) EndedAt: 2024-06-27 08:40:23 -0400 (Thu, 27 Jun 2024) EllapsedTime: 39.8 seconds RetCode: 0 Status: OK PackageFile: PECA_1.40.0.zip PackageFileSize: 138.1 KiB