Package: PECA Version: 1.40.0 Command: rm -rf PECA.buildbin-libdir && mkdir PECA.buildbin-libdir && E:\biocbuild\bbs-3.19-bioc\R\bin\R.exe CMD INSTALL --build --library=PECA.buildbin-libdir PECA_1.40.0.tar.gz StartedAt: 2024-10-17 08:20:07 -0400 (Thu, 17 Oct 2024) EndedAt: 2024-10-17 08:20:37 -0400 (Thu, 17 Oct 2024) EllapsedTime: 29.7 seconds RetCode: 0 Status: OK PackageFile: PECA_1.40.0.zip PackageFileSize: 139.1 KiB