Package: PECA Version: 1.40.0 Command: E:\biocbuild\bbs-3.19-bioc\R\bin\R.exe CMD INSTALL PECA StartedAt: 2024-10-16 16:56:39 -0400 (Wed, 16 Oct 2024) EndedAt: 2024-10-16 16:57:03 -0400 (Wed, 16 Oct 2024) EllapsedTime: 24.0 seconds RetCode: 0 Status: OK