Package: PERFect Version: 1.18.0 Command: rm -rf PERFect.buildbin-libdir && mkdir PERFect.buildbin-libdir && /Users/biocbuild/BBS/utils/build-universal.sh PERFect_1.18.0.tar.gz /Library/Frameworks/R.framework/Resources/bin/R PERFect.buildbin-libdir StartedAt: 2024-10-18 19:55:49 -0400 (Fri, 18 Oct 2024) EndedAt: 2024-10-18 19:56:19 -0400 (Fri, 18 Oct 2024) EllapsedTime: 29.9 seconds RetCode: 0 Status: OK PackageFile: PERFect_1.18.0.tgz PackageFileSize: 811.8 KiB