Package: PERFect Version: 1.18.0 Command: /Library/Frameworks/R.framework/Resources/bin/R CMD check --install=check:PERFect.install-out.txt --library=/Library/Frameworks/R.framework/Resources/library --no-vignettes --timings PERFect_1.18.0.tar.gz StartedAt: 2024-10-18 07:16:21 -0400 (Fri, 18 Oct 2024) EndedAt: 2024-10-18 07:19:18 -0400 (Fri, 18 Oct 2024) EllapsedTime: 176.5 seconds RetCode: 0 Status: OK CheckDir: PERFect.Rcheck Warnings: 0