Package: PERFect Version: 1.18.0 Command: /Library/Frameworks/R.framework/Resources/bin/R CMD INSTALL PERFect StartedAt: 2024-10-16 18:08:22 -0400 (Wed, 16 Oct 2024) EndedAt: 2024-10-16 18:08:45 -0400 (Wed, 16 Oct 2024) EllapsedTime: 23.8 seconds RetCode: 0 Status: OK