Package: PERFect Version: 1.18.0 Command: /Library/Frameworks/R.framework/Resources/bin/R CMD build --keep-empty-dirs --no-resave-data PERFect StartedAt: 2024-10-16 22:01:39 -0400 (Wed, 16 Oct 2024) EndedAt: 2024-10-16 22:12:35 -0400 (Wed, 16 Oct 2024) EllapsedTime: 656.5 seconds RetCode: 0 Status: OK PackageFile: PERFect_1.18.0.tar.gz PackageFileSize: 740.4 KiB