Package: PERFect Version: 1.18.0 Command: /Library/Frameworks/R.framework/Resources/bin/R CMD check --install=check:PERFect.install-out.txt --library=/Library/Frameworks/R.framework/Resources/library --no-vignettes --timings PERFect_1.18.0.tar.gz StartedAt: 2024-10-17 10:46:20 -0400 (Thu, 17 Oct 2024) EndedAt: 2024-10-17 10:51:59 -0400 (Thu, 17 Oct 2024) EllapsedTime: 338.9 seconds RetCode: 0 Status: OK CheckDir: PERFect.Rcheck Warnings: 0