Package: PERFect Version: 1.18.0 Command: E:\biocbuild\bbs-3.19-bioc\R\bin\R.exe CMD check --no-multiarch --install=check:PERFect.install-out.txt --library=E:\biocbuild\bbs-3.19-bioc\R\library --no-vignettes --timings PERFect_1.18.0.tar.gz StartedAt: 2024-10-17 04:24:25 -0400 (Thu, 17 Oct 2024) EndedAt: 2024-10-17 04:27:27 -0400 (Thu, 17 Oct 2024) EllapsedTime: 181.7 seconds RetCode: 0 Status: OK CheckDir: PERFect.Rcheck Warnings: 0