Package: PICS Version: 2.48.0 Command: /home/biocbuild/bbs-3.19-bioc/R/bin/R CMD INSTALL PICS StartedAt: 2024-10-16 16:03:29 -0400 (Wed, 16 Oct 2024) EndedAt: 2024-10-16 16:04:00 -0400 (Wed, 16 Oct 2024) EllapsedTime: 30.7 seconds RetCode: 0 Status: OK