Package: PING Version: 2.48.0 Command: /Library/Frameworks/R.framework/Resources/bin/R CMD build --keep-empty-dirs --no-resave-data PING StartedAt: 2024-06-10 02:35:09 -0400 (Mon, 10 Jun 2024) EndedAt: 2024-06-10 02:35:13 -0400 (Mon, 10 Jun 2024) EllapsedTime: 3.2 seconds RetCode: 0 Status: OK PackageFile: PING_2.48.0.tar.gz PackageFileSize: 4.51 MiB