Package: PING Version: 2.48.0 Command: rm -rf PING.buildbin-libdir && mkdir PING.buildbin-libdir && /Users/biocbuild/BBS/utils/build-universal.sh PING_2.48.0.tar.gz /Library/Frameworks/R.framework/Resources/bin/R PING.buildbin-libdir StartedAt: 2024-10-17 16:50:37 -0400 (Thu, 17 Oct 2024) EndedAt: 2024-10-17 16:53:06 -0400 (Thu, 17 Oct 2024) EllapsedTime: 149.2 seconds RetCode: 0 Status: OK PackageFile: PING_2.48.0.tgz PackageFileSize: 5.609 MiB