Package: PING Version: 2.48.0 Command: /Library/Frameworks/R.framework/Resources/bin/R CMD INSTALL PING StartedAt: 2024-10-16 16:52:49 -0400 (Wed, 16 Oct 2024) EndedAt: 2024-10-16 16:54:36 -0400 (Wed, 16 Oct 2024) EllapsedTime: 106.5 seconds RetCode: 0 Status: OK