Package: PING Version: 2.48.0 Command: E:\biocbuild\bbs-3.19-bioc\R\bin\R.exe CMD INSTALL PING StartedAt: 2024-10-16 17:24:09 -0400 (Wed, 16 Oct 2024) EndedAt: 2024-10-16 17:25:12 -0400 (Wed, 16 Oct 2024) EllapsedTime: 63.7 seconds RetCode: 0 Status: OK