Package: PIPETS Version: 1.0.3 Command: /home/biocbuild/bbs-3.19-bioc/R/bin/R CMD check --install=check:PIPETS.install-out.txt --library=/home/biocbuild/bbs-3.19-bioc/R/site-library --timings PIPETS_1.0.3.tar.gz StartedAt: 2024-10-17 03:46:36 -0400 (Thu, 17 Oct 2024) EndedAt: 2024-10-17 03:47:57 -0400 (Thu, 17 Oct 2024) EllapsedTime: 81.1 seconds RetCode: 0 Status: OK CheckDir: PIPETS.Rcheck Warnings: 0