Package: POWSC Version: 1.12.0 Command: /Library/Frameworks/R.framework/Resources/bin/R CMD INSTALL POWSC StartedAt: 2024-10-16 16:07:22 -0400 (Wed, 16 Oct 2024) EndedAt: 2024-10-16 16:07:55 -0400 (Wed, 16 Oct 2024) EllapsedTime: 32.8 seconds RetCode: 0 Status: OK