Package: POWSC Version: 1.12.0 Command: /Library/Frameworks/R.framework/Resources/bin/R CMD build --keep-empty-dirs --no-resave-data POWSC StartedAt: 2024-06-10 02:41:14 -0400 (Mon, 10 Jun 2024) EndedAt: 2024-06-10 02:43:19 -0400 (Mon, 10 Jun 2024) EllapsedTime: 124.5 seconds RetCode: 0 Status: OK PackageFile: POWSC_1.12.0.tar.gz PackageFileSize: 1.137 MiB