Package: POWSC Version: 1.12.0 Command: /Library/Frameworks/R.framework/Resources/bin/R CMD check --install=check:POWSC.install-out.txt --library=/Library/Frameworks/R.framework/Resources/library --no-vignettes --timings POWSC_1.12.0.tar.gz StartedAt: 2024-10-17 11:02:38 -0400 (Thu, 17 Oct 2024) EndedAt: 2024-10-17 11:13:07 -0400 (Thu, 17 Oct 2024) EllapsedTime: 628.1 seconds RetCode: 0 Status: OK CheckDir: POWSC.Rcheck Warnings: 0