Package: POWSC Version: 1.12.0 Command: rm -rf POWSC.buildbin-libdir && mkdir POWSC.buildbin-libdir && F:\biocbuild\bbs-3.19-bioc\R\bin\R.exe CMD INSTALL --build --library=POWSC.buildbin-libdir POWSC_1.12.0.tar.gz StartedAt: 2024-06-27 08:41:29 -0400 (Thu, 27 Jun 2024) EndedAt: 2024-06-27 08:42:11 -0400 (Thu, 27 Jun 2024) EllapsedTime: 42.0 seconds RetCode: 0 Status: OK PackageFile: POWSC_1.12.0.zip PackageFileSize: 1.335 MiB