Package: POWSC Version: 1.12.0 Command: E:\biocbuild\bbs-3.19-bioc\R\bin\R.exe CMD INSTALL POWSC StartedAt: 2024-10-16 16:25:48 -0400 (Wed, 16 Oct 2024) EndedAt: 2024-10-16 16:26:21 -0400 (Wed, 16 Oct 2024) EllapsedTime: 32.8 seconds RetCode: 0 Status: OK