Package: PROPER Version: 1.36.0 Command: /Library/Frameworks/R.framework/Resources/bin/R CMD check --install=check:PROPER.install-out.txt --library=/Library/Frameworks/R.framework/Resources/library --no-vignettes --timings PROPER_1.36.0.tar.gz StartedAt: 2024-05-26 23:26:51 -0400 (Sun, 26 May 2024) EndedAt: 2024-05-26 23:27:42 -0400 (Sun, 26 May 2024) EllapsedTime: 50.3 seconds RetCode: 0 Status: WARNINGS CheckDir: PROPER.Rcheck Warnings: 2