Package: PROPER Version: 1.36.0 Command: /home/biocbuild/bbs-3.19-bioc/R/bin/R CMD build --keep-empty-dirs --no-resave-data PROPER StartedAt: 2024-10-16 20:13:10 -0400 (Wed, 16 Oct 2024) EndedAt: 2024-10-16 20:13:17 -0400 (Wed, 16 Oct 2024) EllapsedTime: 7.0 seconds RetCode: 0 Status: OK PackageFile: PROPER_1.36.0.tar.gz PackageFileSize: 1.8 MiB