Package: PROPS Version: 1.26.0 Command: /home/biocbuild/bbs-3.19-bioc/R/bin/R CMD build --keep-empty-dirs --no-resave-data PROPS StartedAt: 2024-10-16 20:13:13 -0400 (Wed, 16 Oct 2024) EndedAt: 2024-10-16 20:14:50 -0400 (Wed, 16 Oct 2024) EllapsedTime: 97.2 seconds RetCode: 1 Status: ERROR PackageFile: None PackageFileSize: NA