Package: PROPS Version: 1.26.0 Command: chmod a+r PROPS -R && F:\biocbuild\bbs-3.19-bioc\R\bin\R.exe CMD build --keep-empty-dirs --no-resave-data PROPS StartedAt: 2024-06-26 21:07:04 -0400 (Wed, 26 Jun 2024) EndedAt: 2024-06-26 21:10:18 -0400 (Wed, 26 Jun 2024) EllapsedTime: 194.7 seconds RetCode: 0 Status: OK PackageFile: PROPS_1.26.0.tar.gz PackageFileSize: 3.585 MiB