Package: PROPS Version: 1.26.0 Command: F:\biocbuild\bbs-3.19-bioc\R\bin\R.exe CMD INSTALL PROPS StartedAt: 2024-06-26 16:31:44 -0400 (Wed, 26 Jun 2024) EndedAt: 2024-06-26 16:32:10 -0400 (Wed, 26 Jun 2024) EllapsedTime: 25.7 seconds RetCode: 0 Status: OK