Package: PROPS Version: 1.26.0 Command: chmod a+r PROPS -R && E:\biocbuild\bbs-3.19-bioc\R\bin\R.exe CMD build --keep-empty-dirs --no-resave-data PROPS StartedAt: 2024-10-16 21:14:28 -0400 (Wed, 16 Oct 2024) EndedAt: 2024-10-16 21:16:20 -0400 (Wed, 16 Oct 2024) EllapsedTime: 111.7 seconds RetCode: 1 Status: ERROR PackageFile: None PackageFileSize: NA