Package: PROcess Version: 1.80.0 Command: /Library/Frameworks/R.framework/Resources/bin/R CMD INSTALL PROcess StartedAt: 2024-06-09 16:47:22 -0400 (Sun, 09 Jun 2024) EndedAt: 2024-06-09 16:47:30 -0400 (Sun, 09 Jun 2024) EllapsedTime: 8.1 seconds RetCode: 0 Status: OK