Package: PROcess Version: 1.80.0 Command: rm -rf PROcess.buildbin-libdir && mkdir PROcess.buildbin-libdir && /Users/biocbuild/BBS/utils/build-universal.sh PROcess_1.80.0.tar.gz /Library/Frameworks/R.framework/Resources/bin/R PROcess.buildbin-libdir StartedAt: 2024-10-17 16:52:10 -0400 (Thu, 17 Oct 2024) EndedAt: 2024-10-17 16:52:26 -0400 (Thu, 17 Oct 2024) EllapsedTime: 15.8 seconds RetCode: 0 Status: OK PackageFile: PROcess_1.80.0.tgz PackageFileSize: 2.053 MiB