Package: PROcess Version: 1.80.0 Command: /Library/Frameworks/R.framework/Resources/bin/R CMD build --keep-empty-dirs --no-resave-data PROcess StartedAt: 2024-10-16 22:12:41 -0400 (Wed, 16 Oct 2024) EndedAt: 2024-10-16 22:13:27 -0400 (Wed, 16 Oct 2024) EllapsedTime: 45.8 seconds RetCode: 0 Status: OK PackageFile: PROcess_1.80.0.tar.gz PackageFileSize: 2 MiB