Package: PROcess Version: 1.80.0 Command: /Library/Frameworks/R.framework/Resources/bin/R CMD INSTALL PROcess StartedAt: 2024-10-16 16:14:47 -0400 (Wed, 16 Oct 2024) EndedAt: 2024-10-16 16:15:00 -0400 (Wed, 16 Oct 2024) EllapsedTime: 13.0 seconds RetCode: 0 Status: OK