Package: PWMEnrich Version: 4.40.0 Command: rm -rf PWMEnrich.buildbin-libdir && mkdir PWMEnrich.buildbin-libdir && /Users/biocbuild/BBS/utils/build-universal.sh PWMEnrich_4.40.0.tar.gz /Library/Frameworks/R.framework/Resources/bin/R PWMEnrich.buildbin-libdir StartedAt: 2024-10-18 20:04:23 -0400 (Fri, 18 Oct 2024) EndedAt: 2024-10-18 20:04:45 -0400 (Fri, 18 Oct 2024) EllapsedTime: 21.7 seconds RetCode: 0 Status: OK PackageFile: PWMEnrich_4.40.0.tgz PackageFileSize: 1.987 MiB