Package: PWMEnrich Version: 4.40.0 Command: /Library/Frameworks/R.framework/Resources/bin/R CMD build --keep-empty-dirs --no-resave-data PWMEnrich StartedAt: 2024-06-10 02:53:33 -0400 (Mon, 10 Jun 2024) EndedAt: 2024-06-10 02:55:10 -0400 (Mon, 10 Jun 2024) EllapsedTime: 96.8 seconds RetCode: 1 Status: ERROR PackageFile: None PackageFileSize: NA