Package: PWMEnrich Version: 4.40.0 Command: /home/biocbuild/R/R-beta-2024-04-15_r86425/bin/R CMD check --install=check:PWMEnrich.install-out.txt --library=/home/biocbuild/R/R-beta-2024-04-15_r86425/site-library --no-vignettes --timings PWMEnrich_4.40.0.tar.gz StartedAt: 2024-05-09 10:49:30 -0000 (Thu, 09 May 2024) EndedAt: 2024-05-09 10:51:44 -0000 (Thu, 09 May 2024) EllapsedTime: 134.2 seconds RetCode: 0 Status: OK CheckDir: PWMEnrich.Rcheck Warnings: 0