Package: PWMEnrich Version: 4.40.0 Command: /Library/Frameworks/R.framework/Resources/bin/R CMD check --install=check:PWMEnrich.install-out.txt --library=/Library/Frameworks/R.framework/Resources/library --no-vignettes --timings PWMEnrich_4.40.0.tar.gz StartedAt: 2024-10-17 11:15:34 -0400 (Thu, 17 Oct 2024) EndedAt: 2024-10-17 11:20:05 -0400 (Thu, 17 Oct 2024) EllapsedTime: 270.5 seconds RetCode: 0 Status: OK CheckDir: PWMEnrich.Rcheck Warnings: 0