Package: PWMEnrich Version: 4.40.0 Command: /home/biocbuild/bbs-3.19-bioc/R/bin/R CMD build --keep-empty-dirs --no-resave-data PWMEnrich StartedAt: 2024-10-16 20:15:05 -0400 (Wed, 16 Oct 2024) EndedAt: 2024-10-16 20:16:13 -0400 (Wed, 16 Oct 2024) EllapsedTime: 68.1 seconds RetCode: 0 Status: OK PackageFile: PWMEnrich_4.40.0.tar.gz PackageFileSize: 1.571 MiB