Package: PWMEnrich Version: 4.40.0 Command: chmod a+r PWMEnrich -R && F:\biocbuild\bbs-3.19-bioc\R\bin\R.exe CMD build --keep-empty-dirs --no-resave-data PWMEnrich StartedAt: 2024-06-26 21:08:56 -0400 (Wed, 26 Jun 2024) EndedAt: 2024-06-26 21:10:50 -0400 (Wed, 26 Jun 2024) EllapsedTime: 114.3 seconds RetCode: 0 Status: OK PackageFile: PWMEnrich_4.40.0.tar.gz PackageFileSize: 1.572 MiB