Package: PWMEnrich Version: 4.40.0 Command: F:\biocbuild\bbs-3.19-bioc\R\bin\R.exe CMD INSTALL PWMEnrich StartedAt: 2024-06-26 15:52:50 -0400 (Wed, 26 Jun 2024) EndedAt: 2024-06-26 15:53:17 -0400 (Wed, 26 Jun 2024) EllapsedTime: 27.2 seconds RetCode: 0 Status: OK