Package: PWMEnrich Version: 4.40.0 Command: E:\biocbuild\bbs-3.19-bioc\R\bin\R.exe CMD INSTALL PWMEnrich StartedAt: 2024-10-16 16:17:54 -0400 (Wed, 16 Oct 2024) EndedAt: 2024-10-16 16:18:43 -0400 (Wed, 16 Oct 2024) EllapsedTime: 49.1 seconds RetCode: 0 Status: OK