Package: PanViz Version: 1.6.0 Command: /Library/Frameworks/R.framework/Resources/bin/R CMD INSTALL PanViz StartedAt: 2024-10-16 16:20:29 -0400 (Wed, 16 Oct 2024) EndedAt: 2024-10-16 16:20:33 -0400 (Wed, 16 Oct 2024) EllapsedTime: 3.8 seconds RetCode: 0 Status: OK