Package: PanViz Version: 1.6.0 Command: rm -rf PanViz.buildbin-libdir && mkdir PanViz.buildbin-libdir && /Users/biocbuild/BBS/utils/build-universal.sh PanViz_1.6.0.tar.gz /Library/Frameworks/R.framework/Resources/bin/R PanViz.buildbin-libdir StartedAt: 2024-06-10 00:31:29 -0400 (Mon, 10 Jun 2024) EndedAt: 2024-06-10 00:31:35 -0400 (Mon, 10 Jun 2024) EllapsedTime: 6.8 seconds RetCode: 0 Status: OK PackageFile: PanViz_1.6.0.tgz PackageFileSize: 2.048 MiB