Package: PanViz Version: 1.6.0 Command: rm -rf PanViz.buildbin-libdir && mkdir PanViz.buildbin-libdir && E:\biocbuild\bbs-3.19-bioc\R\bin\R.exe CMD INSTALL --build --library=PanViz.buildbin-libdir PanViz_1.6.0.tar.gz StartedAt: 2024-10-17 08:19:20 -0400 (Thu, 17 Oct 2024) EndedAt: 2024-10-17 08:19:37 -0400 (Thu, 17 Oct 2024) EllapsedTime: 17.5 seconds RetCode: 0 Status: OK PackageFile: PanViz_1.6.0.zip PackageFileSize: 1.767 MiB